BEGIN:VCALENDAR
VERSION:2.0
PRODID:-//Stay Wild Backcountry Skills - ECPv6.15.20//NONSGML v1.0//EN
CALSCALE:GREGORIAN
METHOD:PUBLISH
X-ORIGINAL-URL:https://www.staywildbackcountry.ca
X-WR-CALDESC:Events for Stay Wild Backcountry Skills
REFRESH-INTERVAL;VALUE=DURATION:PT1H
X-Robots-Tag:noindex
X-PUBLISHED-TTL:PT1H
BEGIN:VTIMEZONE
TZID:UTC
BEGIN:STANDARD
TZOFFSETFROM:+0000
TZOFFSETTO:+0000
TZNAME:UTC
DTSTART:20240101T000000
END:STANDARD
END:VTIMEZONE
BEGIN:VEVENT
DTSTART;TZID=UTC:20250125T090000
DTEND;TZID=UTC:20250125T160000
DTSTAMP:20260421T142314
CREATED:20230105T204522Z
LAST-MODIFIED:20241128T132949Z
UID:21443-1737795600-1737820800@www.staywildbackcountry.ca
SUMMARY:Ladies Intro to Sledding
DESCRIPTION:Private groups				\n				\n					\n				\n		\n					\n				\n				\n							\n			\n						\n		\n						\n				\n					\n				\n		\n					\n				\n				\n									We are currently taking private group bookings for AST 1\, AST 2\, Managing Avalanche Terrian and Refresher courses in Golden. Please reach out and we would be stoked to chat and make something work for your crew. 								\n				\n					\n				\n		\n					\n				\n				\n									\n					\n						\n									Contact us
URL:https://www.staywildbackcountry.ca/events/ladies-intro-to-sledding-2/
LOCATION:Golden\, BC\, Golden\, British Columbia\, Canada
CATEGORIES:Beginner,Golden,Ladies Sled Shred Camps,Women's Specific
ATTACH;FMTTYPE=image/jpeg:https://www.staywildbackcountry.ca/cms/wp-content/uploads/2020/08/Ladies-sled-camp.jpg
END:VEVENT
END:VCALENDAR