BEGIN:VCALENDAR
VERSION:2.0
PRODID:-//Stay Wild Backcountry Skills - ECPv6.15.20//NONSGML v1.0//EN
CALSCALE:GREGORIAN
METHOD:PUBLISH
X-WR-CALNAME:Stay Wild Backcountry Skills
X-ORIGINAL-URL:https://www.staywildbackcountry.ca
X-WR-CALDESC:Events for Stay Wild Backcountry Skills
REFRESH-INTERVAL;VALUE=DURATION:PT1H
X-Robots-Tag:noindex
X-PUBLISHED-TTL:PT1H
BEGIN:VTIMEZONE
TZID:UTC
BEGIN:STANDARD
TZOFFSETFROM:+0000
TZOFFSETTO:+0000
TZNAME:UTC
DTSTART:20240101T000000
END:STANDARD
END:VTIMEZONE
BEGIN:VEVENT
DTSTART;TZID=UTC:20250307T180000
DTEND;TZID=UTC:20250308T163000
DTSTAMP:20260420T004837
CREATED:20240907T193856Z
LAST-MODIFIED:20250223T024132Z
UID:23820-1741370400-1741451400@www.staywildbackcountry.ca
SUMMARY:Avalanche Skills Training Level 1 (AST 1) - Ski / Snowboard - Revelstoke
DESCRIPTION:[vc_text_separator title=”” i_type=”material” i_icon_material=”vc-material vc-material-terrain” i_color=”chino” i_size=”sm” color=”chino” add_icon=”true”]AST 1 – Revelstoke – Ski / SnowboardMarch 7th – evening online | March 8th – field day \nThe online course must be completed before the field day. \n— \nEvening online classroom session\nFriday\, March 7th\n6 pm – 7 pm \n— \nField day at Mt. Macpherson\nSaturday\, March 8th\n8:30 am – 4:00 pm \n— \nFor a full course description please check out Avalanche Skills Training Level 1 – Ski / Snowboard. \n[vc_text_separator title=”” i_type=”material” i_icon_material=”vc-material vc-material-terrain” i_color=”chino” i_size=”sm” color=”chino” add_icon=”true”]Book NowThis course is now full. Please join our waitlist and checkout our other locations.\nGolden has upcoming availability in March. \n \n\nSearching Availability… \n\n\nContinue to Secure Booking System »[vc_text_separator title=”” i_type=”material” i_icon_material=”vc-material vc-material-terrain” i_color=”chino” i_size=”sm” color=”chino” add_icon=”true”]Golden Courses” color=”mulled-wine” link=”url:https%3A%2F%2Fwww.staywildbackcountry.ca%2Fevents%2Fcategory%2Flocation%2Fgolden%2Flist%2F|||”][vc_text_separator title=”” i_type=”material” i_icon_material=”vc-material vc-material-terrain” i_color=”chino” i_size=”sm” color=”chino” add_icon=”true”]
URL:https://www.staywildbackcountry.ca/events/avalanche-skills-training-level-1-ast-1-ski-snowboard-revelstoke-9/
LOCATION:Revelstoke\, BC\, Revelstoke\, British Columbia\, Canada
CATEGORIES:AST 1 - Snowboard / Ski,Avalanche Skills Training Level 1,Revelstoke
ATTACH;FMTTYPE=image/png:https://www.staywildbackcountry.ca/cms/wp-content/uploads/2021/04/Revy-1.png
END:VEVENT
BEGIN:VEVENT
DTSTART;TZID=UTC:20250301T180000
DTEND;TZID=UTC:20250302T163000
DTSTAMP:20260420T004837
CREATED:20241020T225927Z
LAST-MODIFIED:20250223T023643Z
UID:24042-1740852000-1740933000@www.staywildbackcountry.ca
SUMMARY:Avalanche Skills Training Level 1 (AST 1) | Ski / Snowboard | Revelstoke
DESCRIPTION:[vc_text_separator title=”” i_type=”material” i_icon_material=”vc-material vc-material-terrain” i_color=”chino” i_size=”sm” color=”chino” add_icon=”true”]AST 1 – Revelstoke – Ski / SnowboardMarch 1st – evening online | March 2nd – field day \nThe online course must be completed before the field day. \n— \nEvening online classroom session\nSaturday\, March 1st\n6 pm – 7 pm \n— \nField day at Mt. Macpherson\nSunday\, March 2nd\n8:30 am – 4:00 pm \n— \nFor a full course description please check out Avalanche Skills Training Level 1 – Ski / Snowboard. \n[vc_text_separator title=”” i_type=”material” i_icon_material=”vc-material vc-material-terrain” i_color=”chino” i_size=”sm” color=”chino” add_icon=”true”]Book NowThis course is now full. Please join the waitlist and checkout our other locations.\nGolden has upcoming availability in March at the link below. \n \n\nSearching Availability… \n\n\nContinue to Secure Booking System »[vc_text_separator title=”” i_type=”material” i_icon_material=”vc-material vc-material-terrain” i_color=”chino” i_size=”sm” color=”chino” add_icon=”true”]Golden courses” color=”mulled-wine” link=”url:https%3A%2F%2Fwww.staywildbackcountry.ca%2Fevents%2Fcategory%2Flocation%2Fgolden%2Flist%2F|||”][vc_text_separator title=”” i_type=”material” i_icon_material=”vc-material vc-material-terrain” i_color=”chino” i_size=”sm” color=”chino” add_icon=”true”]
URL:https://www.staywildbackcountry.ca/events/avalanche-skills-training-level-1-ast-1-ski-snowboard-revelstoke-14/
LOCATION:Revelstoke\, BC\, Revelstoke\, British Columbia\, Canada
CATEGORIES:AST 1 - Snowboard / Ski,Avalanche Skills Training Level 1,Revelstoke
ATTACH;FMTTYPE=image/png:https://www.staywildbackcountry.ca/cms/wp-content/uploads/2021/04/Revy-1.png
END:VEVENT
BEGIN:VEVENT
DTSTART;TZID=UTC:20250220T180000
DTEND;TZID=UTC:20250221T163000
DTSTAMP:20260420T004837
CREATED:20240826T195113Z
LAST-MODIFIED:20250127T225440Z
UID:23780-1740074400-1740155400@www.staywildbackcountry.ca
SUMMARY:Avalanche Skills Training Level 1 (AST 1) - Ski / Snowboard - Revelstoke
DESCRIPTION:[vc_text_separator title=”” i_type=”material” i_icon_material=”vc-material vc-material-terrain” i_color=”chino” i_size=”sm” color=”chino” add_icon=”true”][themeum_title titlelayout=”layout1″ alignment=”left” title=”AST 1 – Revelstoke – Ski / SnowboardFeb 20th – evening online | Feb 21st – field day \nThe online course must be completed before the field day. \n— \nEvening online classroom session\nThursday\, Feb 20th\n6 pm – 7 pm \n— \nField day at Mt. Macpherson\nFriday\, Feb 21st\n8:30 am – 4:00 pm \n— \nFor a full course description please check out Avalanche Skills Training Level 1 – Ski / Snowboard. \n[vc_text_separator title=”” i_type=”material” i_icon_material=”vc-material vc-material-terrain” i_color=”chino” i_size=”sm” color=”chino” add_icon=”true”][themeum_title titlelayout=”layout1″ alignment=”left” title=”Book NowThis course is now full. Please join the waitlist and checkout our other dates and locations.\nGolden has several openings!\n \n\nSearching Availability… \n\n\nContinue to Secure Booking System »Golden Dates” color=”mulled-wine” link=”url:https%3A%2F%2Fwww.staywildbackcountry.ca%2Fevents%2Fcategory%2Favalancheskillstraininglevel1%2Fgolden-ast-1-ski-snowboard%2F|||”][vc_text_separator title=”” i_type=”material” i_icon_material=”vc-material vc-material-terrain” i_color=”chino” i_size=”sm” color=”chino” add_icon=”true”]
URL:https://www.staywildbackcountry.ca/events/avalanche-skills-training-level-1-ast-1-ski-snowboard-revelstoke-6/
LOCATION:Revelstoke\, BC\, Revelstoke\, British Columbia\, Canada
CATEGORIES:AST 1 - Snowboard / Ski,Avalanche Skills Training Level 1,Revelstoke
ATTACH;FMTTYPE=image/png:https://www.staywildbackcountry.ca/cms/wp-content/uploads/2021/04/Revy-1.png
END:VEVENT
END:VCALENDAR