BEGIN:VCALENDAR
VERSION:2.0
PRODID:-//Stay Wild Backcountry Skills - ECPv6.15.20//NONSGML v1.0//EN
CALSCALE:GREGORIAN
METHOD:PUBLISH
X-WR-CALNAME:Stay Wild Backcountry Skills
X-ORIGINAL-URL:https://www.staywildbackcountry.ca
X-WR-CALDESC:Events for Stay Wild Backcountry Skills
REFRESH-INTERVAL;VALUE=DURATION:PT1H
X-Robots-Tag:noindex
X-PUBLISHED-TTL:PT1H
BEGIN:VTIMEZONE
TZID:UTC
BEGIN:STANDARD
TZOFFSETFROM:+0000
TZOFFSETTO:+0000
TZNAME:UTC
DTSTART:20240101T000000
END:STANDARD
END:VTIMEZONE
BEGIN:VEVENT
DTSTART;TZID=UTC:20250312T190000
DTEND;TZID=UTC:20250313T163000
DTSTAMP:20260420T000925
CREATED:20240920T184157Z
LAST-MODIFIED:20250219T180019Z
UID:23958-1741806000-1741883400@www.staywildbackcountry.ca
SUMMARY:Avalanche Skills Training Level 1 (AST 1) | Ski / Snowboard | Fernie
DESCRIPTION:Private groups				\n				\n					\n				\n		\n					\n				\n				\n							\n			\n						\n		\n						\n				\n					\n				\n		\n					\n				\n				\n									We are currently taking private group bookings for AST 1\, AST 2\, Managing Avalanche Terrian and Refresher courses in Golden. Please reach out and we would be stoked to chat and make something work for your crew. 								\n				\n					\n				\n		\n					\n				\n				\n									\n					\n						\n									Contact us
URL:https://www.staywildbackcountry.ca/events/avalanche-skills-training-level-1-ast-1-ski-snowboard-fernie-3/
LOCATION:Fernie\, BC\, Fernie\, British Columbia\, Canada
CATEGORIES:Avalanche Skills Training Level 1,Fernie
ATTACH;FMTTYPE=image/png:https://www.staywildbackcountry.ca/cms/wp-content/uploads/2021/04/Fernie-1.png
END:VEVENT
BEGIN:VEVENT
DTSTART;TZID=UTC:20250221T190000
DTEND;TZID=UTC:20250222T163000
DTSTAMP:20260420T000925
CREATED:20241106T123929Z
LAST-MODIFIED:20250202T144422Z
UID:24138-1740164400-1740241800@www.staywildbackcountry.ca
SUMMARY:Avalanche Skills Training Level 1 (AST 1) | Ski / Snowboard | Fernie
DESCRIPTION:Private groups				\n				\n					\n				\n		\n					\n				\n				\n							\n			\n						\n		\n						\n				\n					\n				\n		\n					\n				\n				\n									We are currently taking private group bookings for AST 1\, AST 2\, Managing Avalanche Terrian and Refresher courses in Golden. Please reach out and we would be stoked to chat and make something work for your crew. 								\n				\n					\n				\n		\n					\n				\n				\n									\n					\n						\n									Contact us
URL:https://www.staywildbackcountry.ca/events/avalanche-skills-training-level-1-ast-1-ski-snowboard-fernie-6/
LOCATION:Fernie\, BC\, Fernie\, British Columbia\, Canada
CATEGORIES:Avalanche Skills Training Level 1,Fernie
ATTACH;FMTTYPE=image/png:https://www.staywildbackcountry.ca/cms/wp-content/uploads/2021/04/Fernie-1.png
END:VEVENT
BEGIN:VEVENT
DTSTART;TZID=UTC:20250131T190000
DTEND;TZID=UTC:20250201T163000
DTSTAMP:20260420T000925
CREATED:20241106T123424Z
LAST-MODIFIED:20250222T042324Z
UID:24134-1738350000-1738427400@www.staywildbackcountry.ca
SUMMARY:Avalanche Skills Training Level 1 (AST 1) | Ski / Snowboard | Fernie
DESCRIPTION:Private groups				\n				\n					\n				\n		\n					\n				\n				\n							\n			\n						\n		\n						\n				\n					\n				\n		\n					\n				\n				\n									We are currently taking private group bookings for AST 1\, AST 2\, Managing Avalanche Terrian and Refresher courses in Golden. Please reach out and we would be stoked to chat and make something work for your crew. 								\n				\n					\n				\n		\n					\n				\n				\n									\n					\n						\n									Contact us
URL:https://www.staywildbackcountry.ca/events/avalanche-skills-training-level-1-ast-1-ski-snowboard-fernie-5/
LOCATION:Fernie\, BC\, Fernie\, British Columbia\, Canada
CATEGORIES:Avalanche Skills Training Level 1,Fernie
ATTACH;FMTTYPE=image/png:https://www.staywildbackcountry.ca/cms/wp-content/uploads/2021/04/Fernie-1.png
END:VEVENT
BEGIN:VEVENT
DTSTART;TZID=UTC:20250116T190000
DTEND;TZID=UTC:20250119T160000
DTSTAMP:20260420T000925
CREATED:20230918T131238Z
LAST-MODIFIED:20250115T201153Z
UID:22903-1737054000-1737302400@www.staywildbackcountry.ca
SUMMARY:Avalanche Skills Training Level 2 (AST 2) | Ski / Snowboard | Fernie
DESCRIPTION:Private groups				\n				\n					\n				\n		\n					\n				\n				\n							\n			\n						\n		\n						\n				\n					\n				\n		\n					\n				\n				\n									We are currently taking private group bookings for AST 1\, AST 2\, Managing Avalanche Terrian and Refresher courses in Golden. Please reach out and we would be stoked to chat and make something work for your crew. 								\n				\n					\n				\n		\n					\n				\n				\n									\n					\n						\n									Contact us
URL:https://www.staywildbackcountry.ca/events/avalanche-skills-training-level-2-ast-2-ski-snowboard-fernie/
LOCATION:Fernie\, BC\, Fernie\, British Columbia\, Canada
CATEGORIES:AST 2 - Snowboard / Ski,Avalanche Skills Training Level 2,Fernie
ATTACH;FMTTYPE=image/png:https://www.staywildbackcountry.ca/cms/wp-content/uploads/2021/04/Fernie-1.png
END:VEVENT
END:VCALENDAR