BEGIN:VCALENDAR
VERSION:2.0
PRODID:-//Stay Wild Backcountry Skills - ECPv6.15.20//NONSGML v1.0//EN
CALSCALE:GREGORIAN
METHOD:PUBLISH
X-ORIGINAL-URL:https://www.staywildbackcountry.ca
X-WR-CALDESC:Events for Stay Wild Backcountry Skills
REFRESH-INTERVAL;VALUE=DURATION:PT1H
X-Robots-Tag:noindex
X-PUBLISHED-TTL:PT1H
BEGIN:VTIMEZONE
TZID:UTC
BEGIN:STANDARD
TZOFFSETFROM:+0000
TZOFFSETTO:+0000
TZNAME:UTC
DTSTART:20240101T000000
END:STANDARD
END:VTIMEZONE
BEGIN:VEVENT
DTSTART;TZID=UTC:20250128T190000
DTEND;TZID=UTC:20250129T163000
DTSTAMP:20260419T151024
CREATED:20241008T210112Z
LAST-MODIFIED:20250123T172240Z
UID:23971-1738090800-1738168200@www.staywildbackcountry.ca
SUMMARY:Avalanche Skills Training Level 1 (AST 1) | Ski / Snowboard | Caslte
DESCRIPTION:[vc_text_separator title=”” i_type=”material” i_icon_material=”vc-material vc-material-terrain” i_color=”chino” i_size=”sm” color=”chino” add_icon=”true”]AST 1 | Castle | Ski / SnowboardJan 28 – evening online | Jan 29 – field day \nThe online course must be completed before the field day. \nPlease note this course takes place at the resort and touring gear is not required. You will need a backpack\, transceiver\, probe and shovel. \n— \nEvening online classroom session\nTuesday\, Jan 28th\n7 pm – 8 pm \n— \nField day at Castle Mountain Resort\n*A lift ticket or seasons pass is required. Please reach out to us if you need a pass.\nWednesday\, Jan 29th\n8:30 am – 4:00 pm \n— \nFor a full course description please check out Avalanche Skills Training Level 1 – Ski / Snowboard. \n[vc_text_separator title=”” i_type=”material” i_icon_material=”vc-material vc-material-terrain” i_color=”chino” i_size=”sm” color=”chino” add_icon=”true”]Book NowThis course is now full. Please join the waitlist and checkout our Fernie dates.\n \n\nSearching Availability… \n\n\nContinue to Secure Booking System »[vc_text_separator title=”” i_type=”material” i_icon_material=”vc-material vc-material-terrain” i_color=”chino” i_size=”sm” color=”chino” add_icon=”true”]
URL:https://www.staywildbackcountry.ca/events/avalanche-skills-training-level-1-ast-1-ski-snowboard-caslte/
CATEGORIES:AST 1 - Snowboard / Ski,Avalanche Skills Training Level 1,Castle
END:VEVENT
BEGIN:VEVENT
DTSTART;TZID=UTC:20250114T190000
DTEND;TZID=UTC:20250115T163000
DTSTAMP:20260419T151024
CREATED:20241008T205600Z
LAST-MODIFIED:20250109T204119Z
UID:23966-1736881200-1736958600@www.staywildbackcountry.ca
SUMMARY:Avalanche Skills Training Level 1 (AST 1) | Ski / Snowboard | Caslte
DESCRIPTION:[vc_text_separator title=”” i_type=”material” i_icon_material=”vc-material vc-material-terrain” i_color=”chino” i_size=”sm” color=”chino” add_icon=”true”]AST 1 | Castle | Ski / SnowboardJan 14 – evening online | Jan 15 – field day \nThe online course must be completed before the field day. \nPlease note this course takes place at the resort and touring gear is not required. You will need a backpack\, transceiver\, probe and shovel. \n— \nEvening online classroom session\nTuesday\, Jan 14th\n7 pm – 8 pm \n— \nField day at Castle Mountain Resort\nWednesday\, Jan 15th\n8:30 am – 4:00 pm \n— \nFor a full course description please check out Avalanche Skills Training Level 1 – Ski / Snowboard. \n[vc_text_separator title=”” i_type=”material” i_icon_material=”vc-material vc-material-terrain” i_color=”chino” i_size=”sm” color=”chino” add_icon=”true”]Book NowThis course is now full. Please join the waitlist and checkout our other dates.\n \n\nSearching Availability… \n\n\nContinue to Secure Booking System »[vc_text_separator title=”” i_type=”material” i_icon_material=”vc-material vc-material-terrain” i_color=”chino” i_size=”sm” color=”chino” add_icon=”true”]
URL:https://www.staywildbackcountry.ca/events/avalanche-skills-training-level-1-ast-1-ski-snowboard-castle-jan-14-15/
CATEGORIES:AST 1 - Snowboard / Ski,Avalanche Skills Training Level 1,Castle
END:VEVENT
END:VCALENDAR