BEGIN:VCALENDAR
VERSION:2.0
PRODID:-//Stay Wild Backcountry Skills - ECPv6.15.20//NONSGML v1.0//EN
CALSCALE:GREGORIAN
METHOD:PUBLISH
X-ORIGINAL-URL:https://www.staywildbackcountry.ca
X-WR-CALDESC:Events for Stay Wild Backcountry Skills
REFRESH-INTERVAL;VALUE=DURATION:PT1H
X-Robots-Tag:noindex
X-PUBLISHED-TTL:PT1H
BEGIN:VTIMEZONE
TZID:UTC
BEGIN:STANDARD
TZOFFSETFROM:+0000
TZOFFSETTO:+0000
TZNAME:UTC
DTSTART:20240101T000000
END:STANDARD
END:VTIMEZONE
BEGIN:VEVENT
DTSTART;TZID=UTC:20250312T190000
DTEND;TZID=UTC:20250313T163000
DTSTAMP:20260419T211602
CREATED:20240920T184157Z
LAST-MODIFIED:20250219T180019Z
UID:23958-1741806000-1741883400@www.staywildbackcountry.ca
SUMMARY:Avalanche Skills Training Level 1 (AST 1) | Ski / Snowboard | Fernie
DESCRIPTION:[vc_text_separator title=”” i_type=”material” i_icon_material=”vc-material vc-material-terrain” i_color=”chino” i_size=”sm” color=”chino” add_icon=”true”]AST 1 | Fernie | Ski / SnowboardMarch 12 – evening online | March 13 – field day \nThe online course must be completed before the field day. \n— \nEvening online classroom session\nWednesday\, March 12th\n7 pm – 8 pm \n— \nField day at Lost Boys Pass\nThursday\, March 13th\n8:30 am – 4:00 pm \n— \nFor a full course description please check out Avalanche Skills Training Level 1 – Ski / Snowboard. \n[vc_text_separator title=”” i_type=”material” i_icon_material=”vc-material vc-material-terrain” i_color=”chino” i_size=”sm” color=”chino” add_icon=”true”]Book NowThis course is now full. Please join the waitlist and checkout our other locations.\n \n\nSearching Availability… \n\n\nContinue to Secure Booking System »[vc_text_separator title=”” i_type=”material” i_icon_material=”vc-material vc-material-terrain” i_color=”chino” i_size=”sm” color=”chino” add_icon=”true”]
URL:https://www.staywildbackcountry.ca/events/avalanche-skills-training-level-1-ast-1-ski-snowboard-fernie-3/
LOCATION:Fernie\, BC\, Fernie\, British Columbia\, Canada
CATEGORIES:Avalanche Skills Training Level 1,Fernie
ATTACH;FMTTYPE=image/png:https://www.staywildbackcountry.ca/cms/wp-content/uploads/2021/04/Fernie-1.png
END:VEVENT
BEGIN:VEVENT
DTSTART;TZID=UTC:20250314T190000
DTEND;TZID=UTC:20250315T163000
DTSTAMP:20260419T211602
CREATED:20241031T031133Z
LAST-MODIFIED:20250214T022500Z
UID:24106-1741978800-1742056200@www.staywildbackcountry.ca
SUMMARY:Avalanche Skills Training Level 1 | AST 1 | Ski / Snowboard | Big White
DESCRIPTION:[vc_text_separator title=”” i_type=”material” i_icon_material=”vc-material vc-material-terrain” i_color=”chino” i_size=”sm” color=”chino” add_icon=”true”]AST 1 – Ski / Snowboard – Big WhiteMarch 14th – evening online |March 15th – field day \nOnline course must be completed before the field day. \n— \nEvening online classroom session\nFriday\, March 14th\n7 pm – 8 pm \n— \nField day off of Big White Ski Resort\nSaturday\, March 15th\n8:30 am – 4:00 pm \n— \nFor a full course description please check out Avalanche Skills Training Level 1 – Ski / Snowboard. \n[vc_text_separator title=”” i_type=”material” i_icon_material=”vc-material vc-material-terrain” i_color=”chino” i_size=”sm” color=”chino” add_icon=”true”]Book NowThis course is now full. Please join the waitlist and checkout our other dates and locations.” sub_title_style=”standardstylesub” sub_title_heading=”h1″]\n \n\nSearching Availability… \n\n\nContinue to Secure Booking System »[vc_text_separator title=”” i_type=”material” i_icon_material=”vc-material vc-material-terrain” i_color=”chino” i_size=”sm” color=”chino” add_icon=”true”]
URL:https://www.staywildbackcountry.ca/events/avalanche-skills-training-level-1-ast-1-ski-snowboard-big-white-10/
LOCATION:Big White Ski Resort\, Kelowna\, British Columbia\, Canada
CATEGORIES:AST 1 - Snowboard / Ski,Avalanche Skills Training Level 1,Big White
ATTACH;FMTTYPE=image/png:https://www.staywildbackcountry.ca/cms/wp-content/uploads/2021/02/Big-White-copy.png
END:VEVENT
BEGIN:VEVENT
DTSTART;TZID=UTC:20250321T190000
DTEND;TZID=UTC:20250322T163000
DTSTAMP:20260419T211602
CREATED:20250204T192528Z
LAST-MODIFIED:20250213T224925Z
UID:24471-1742583600-1742661000@www.staywildbackcountry.ca
SUMMARY:Avalanche Skills Training Level 1 (AST 1) | Ski / Snowboard | Smithers
DESCRIPTION:[vc_text_separator title=”” i_type=”material” i_icon_material=”vc-material vc-material-terrain” i_color=”chino” i_size=”sm” color=”chino” add_icon=”true”]AST 1 | Smithers | Ski / SnowboardMarch 21 – evening online | March 22 – field day \nThe online course must be completed before the field day. \n— \nEvening online classroom session\nFriday\, March 21st\n7 pm – 8 pm \n— \nField day at Hudson Bay Mountain\nSaturday\, March 22nd\n8:30 am – 4:00 pm \n— \nFor a full course description please check out Avalanche Skills Training Level 1 – Ski / Snowboard. \n[vc_text_separator title=”” i_type=”material” i_icon_material=”vc-material vc-material-terrain” i_color=”chino” i_size=”sm” color=”chino” add_icon=”true”]Book NowTo register please click the button below. You will be prompted to complete our waiver and then fill out the booking form.Register here” color=”mulled-wine” align=”center” link=”url:https%3A%2F%2Fwww.waiverfile.com%2Fb%2FStayWildBackcountrySkillsInc%3FRedir%3Dhttps%3A%2F%2Fwww.staywildbackcountry.ca%2Fevents%2Fast-1-ski-snowboard-smithers-march-21-22%2F|||”][vc_text_separator title=”” i_type=”material” i_icon_material=”vc-material vc-material-terrain” i_color=”chino” i_size=”sm” color=”chino” add_icon=”true”]
URL:https://www.staywildbackcountry.ca/events/avalanche-skills-training-level-1-ast-1-ski-snowboard-smithers-4/
LOCATION:Smithers\, BC
CATEGORIES:AST 1 - Snowboard / Ski,Avalanche Skills Training Level 1,Smithers
END:VEVENT
BEGIN:VEVENT
DTSTART;TZID=UTC:20250322T190000
DTEND;TZID=UTC:20250323T163000
DTSTAMP:20260419T211602
CREATED:20240823T164923Z
LAST-MODIFIED:20250313T141226Z
UID:23811-1742670000-1742747400@www.staywildbackcountry.ca
SUMMARY:Avalanche Skills Training Level 1 | AST 1 | Ski / Snowboard | Big White
DESCRIPTION:[vc_text_separator title=”” i_type=”material” i_icon_material=”vc-material vc-material-terrain” i_color=”chino” i_size=”sm” color=”chino” add_icon=”true”]AST 1 – Ski / Snowboard – Big WhiteMarch 22nd – evening online |March 23rd – field day \nOnline course must be completed before the field day. \n— \nEvening online classroom session\nSaturday\, March 22nd\n7 pm – 8 pm \n— \nField day off of Big White Ski Resort\nSunday\, March 23rd\n8:30 am – 4:00 pm \n\nIf you do not have a season pass to Big White please add a one-ride ticket to your order.\nWe can not guarantee last-minute requests for a discounted ticket if you do not. \n— \nFor a full course description please check out Avalanche Skills Training Level 1 – Ski / Snowboard. \n[vc_text_separator title=”” i_type=”material” i_icon_material=”vc-material vc-material-terrain” i_color=”chino” i_size=”sm” color=”chino” add_icon=”true”]Book NowThis course is now full. Please join the waitlist and we will reach out if a spot opens up.” sub_title_style=”standardstylesub” sub_title_heading=”h1″]\n \n\nSearching Availability… \n\n\nContinue to Secure Booking System »[vc_text_separator title=”” i_type=”material” i_icon_material=”vc-material vc-material-terrain” i_color=”chino” i_size=”sm” color=”chino” add_icon=”true”]
URL:https://www.staywildbackcountry.ca/events/avalanche-skills-training-level-1-ast-1-ski-snowboard-big-white-2/
LOCATION:Big White Ski Resort\, Kelowna\, British Columbia\, Canada
CATEGORIES:AST 1 - Snowboard / Ski,Avalanche Skills Training Level 1,Big White
ATTACH;FMTTYPE=image/png:https://www.staywildbackcountry.ca/cms/wp-content/uploads/2021/02/Big-White-copy.png
END:VEVENT
BEGIN:VEVENT
DTSTART;TZID=UTC:20260109T190000
DTEND;TZID=UTC:20260110T163000
DTSTAMP:20260419T211602
CREATED:20251207T052714Z
LAST-MODIFIED:20251207T053015Z
UID:26271-1767985200-1768062600@www.staywildbackcountry.ca
SUMMARY:AST 1—Ski / Snowboard | Golden
DESCRIPTION:AST 1—Ski/Snowboard\nJan 9—Evening online | Jan 10—Field day\n\n$289 \n			January 9\n	  @\n7:00 pm\n	  –\n	January 10\n	  @\n4:30 pm \nLocation: Golden—Rudis South via Kicking Horse Mountain Resort \nThe online course must be completed before the field day. \nEvening online classroom session\nFriday\, Jan 9th7 pm – 8 pm \nField day at Rudis South\nSaturday\, Jan 10th8:30 am – 4:00 pm \nIf you do not have a season pass to KHMR please add a one-ride ticket to your order. We can not guarantee last-minute requests for a discounted ticket if you do not. \nBook now\nTo register\, click the button below. You will be prompted to read and sign our waiver and then continue the booking process. \n					\n									Book Now
URL:https://www.staywildbackcountry.ca/events/ast-1-ski-snowboard-jan-9-10/
LOCATION:Golden\, BC\, Golden\, British Columbia\, Canada
CATEGORIES:AST 1 - Snowboard / Ski,Avalanche Skills Training Level 1,Golden,Golden | AST 1 | Ski / Snowboard
ATTACH;FMTTYPE=image/webp:https://www.staywildbackcountry.ca/cms/wp-content/uploads/2020/05/best-230309-6646.webp
END:VEVENT
BEGIN:VEVENT
DTSTART;VALUE=DATE:20260204
DTEND;VALUE=DATE:20260501
DTSTAMP:20260419T211602
CREATED:20260204T044611Z
LAST-MODIFIED:20260204T045335Z
UID:26786-1770163200-1777593599@www.staywildbackcountry.ca
SUMMARY:Private group courses
DESCRIPTION:Private groups\nWe are currently taking private group bookings for AST 1\, AST 2\, Managing Avalanche Terrian and Refresher courses in Golden. Please reach out and we would be stoked to chat and make something work for your crew. \n\nContact us
URL:https://www.staywildbackcountry.ca/events/private-group-courses/
LOCATION:Golden\, BC\, Golden\, British Columbia\, Canada
CATEGORIES:AST 1 - Refresher,AST 1 - Sled,AST 1 - Snowboard / Ski,AST 2 - Sled,AST 2 - Snowboard / Ski,Avalanche Skills Training Level 1,Avalanche Skills Training Level 2,Fernie,Golden,Golden - AST 1 - Refresher,Golden - AST 1 - Sled,Golden | AST 1 | Ski / Snowboard,Managing Avalanche Terrain,Women's Specific
ATTACH;FMTTYPE=image/jpeg:https://www.staywildbackcountry.ca/cms/wp-content/uploads/2025/05/ADB108CA-8708-48B4-9DB4-63E74701DE8E-scaled.jpeg
END:VEVENT
END:VCALENDAR