BEGIN:VCALENDAR
VERSION:2.0
PRODID:-//Stay Wild Backcountry Skills - ECPv6.15.20//NONSGML v1.0//EN
CALSCALE:GREGORIAN
METHOD:PUBLISH
X-WR-CALNAME:Stay Wild Backcountry Skills
X-ORIGINAL-URL:https://www.staywildbackcountry.ca
X-WR-CALDESC:Events for Stay Wild Backcountry Skills
REFRESH-INTERVAL;VALUE=DURATION:PT1H
X-Robots-Tag:noindex
X-PUBLISHED-TTL:PT1H
BEGIN:VTIMEZONE
TZID:UTC
BEGIN:STANDARD
TZOFFSETFROM:+0000
TZOFFSETTO:+0000
TZNAME:UTC
DTSTART:20240101T000000
END:STANDARD
END:VTIMEZONE
BEGIN:VEVENT
DTSTART;TZID=UTC:20250227T190000
DTEND;TZID=UTC:20250228T163000
DTSTAMP:20260419T133518
CREATED:20240818T213030Z
LAST-MODIFIED:20250222T041000Z
UID:23740-1740682800-1740760200@www.staywildbackcountry.ca
SUMMARY:Avalanche Skills Training Level 1 (AST 1) | Ski / Snowboard | Golden
DESCRIPTION:Private groups				\n				\n					\n				\n		\n					\n				\n				\n							\n			\n						\n		\n						\n				\n					\n				\n		\n					\n				\n				\n									We are currently taking private group bookings for AST 1\, AST 2\, Managing Avalanche Terrian and Refresher courses in Golden. Please reach out and we would be stoked to chat and make something work for your crew. 								\n				\n					\n				\n		\n					\n				\n				\n									\n					\n						\n									Contact us
URL:https://www.staywildbackcountry.ca/events/avalanche-skills-training-level-1-ast-1-ski-snowboard-golden/
LOCATION:Golden\, BC\, Golden\, British Columbia\, Canada
CATEGORIES:AST 1 - Snowboard / Ski,Avalanche Skills Training Level 1,Golden,Golden | AST 1 | Ski / Snowboard
ATTACH;FMTTYPE=image/png:https://www.staywildbackcountry.ca/cms/wp-content/uploads/2021/07/AST-1-Ski-Snowboard-golden.png
END:VEVENT
BEGIN:VEVENT
DTSTART;TZID=UTC:20250227T190000
DTEND;TZID=UTC:20250228T163000
DTSTAMP:20260419T133518
CREATED:20241031T030532Z
LAST-MODIFIED:20250202T145005Z
UID:24100-1740682800-1740760200@www.staywildbackcountry.ca
SUMMARY:Avalanche Skills Training Level 1 | AST 1 | Ski / Snowboard | Big White
DESCRIPTION:Private groups				\n				\n					\n				\n		\n					\n				\n				\n							\n			\n						\n		\n						\n				\n					\n				\n		\n					\n				\n				\n									We are currently taking private group bookings for AST 1\, AST 2\, Managing Avalanche Terrian and Refresher courses in Golden. Please reach out and we would be stoked to chat and make something work for your crew. 								\n				\n					\n				\n		\n					\n				\n				\n									\n					\n						\n									Contact us
URL:https://www.staywildbackcountry.ca/events/avalanche-skills-training-level-1-ast-1-ski-snowboard-big-white-9/
LOCATION:Big White Ski Resort\, Kelowna\, British Columbia\, Canada
CATEGORIES:AST 1 - Snowboard / Ski,Avalanche Skills Training Level 1,Big White
ATTACH;FMTTYPE=image/png:https://www.staywildbackcountry.ca/cms/wp-content/uploads/2021/02/Big-White-copy.png
END:VEVENT
END:VCALENDAR