BEGIN:VCALENDAR
VERSION:2.0
PRODID:-//Stay Wild Backcountry Skills - ECPv6.15.20//NONSGML v1.0//EN
CALSCALE:GREGORIAN
METHOD:PUBLISH
X-ORIGINAL-URL:https://www.staywildbackcountry.ca
X-WR-CALDESC:Events for Stay Wild Backcountry Skills
REFRESH-INTERVAL;VALUE=DURATION:PT1H
X-Robots-Tag:noindex
X-PUBLISHED-TTL:PT1H
BEGIN:VTIMEZONE
TZID:UTC
BEGIN:STANDARD
TZOFFSETFROM:+0000
TZOFFSETTO:+0000
TZNAME:UTC
DTSTART:20240101T000000
END:STANDARD
END:VTIMEZONE
BEGIN:VEVENT
DTSTART;TZID=UTC:20250102T190000
DTEND;TZID=UTC:20250105T160000
DTSTAMP:20260421T084912
CREATED:20230918T132338Z
LAST-MODIFIED:20241203T175532Z
UID:22907-1735844400-1736092800@www.staywildbackcountry.ca
SUMMARY:Avalanche Skills Training Level 2 (AST 2) | Ski / Snowboard | Golden
DESCRIPTION:Private groups				\n				\n					\n				\n		\n					\n				\n				\n							\n			\n						\n		\n						\n				\n					\n				\n		\n					\n				\n				\n									We are currently taking private group bookings for AST 1\, AST 2\, Managing Avalanche Terrian and Refresher courses in Golden. Please reach out and we would be stoked to chat and make something work for your crew. 								\n				\n					\n				\n		\n					\n				\n				\n									\n					\n						\n									Contact us
URL:https://www.staywildbackcountry.ca/events/avalanche-skills-training-level-2-ast-2-ski-snowboard-golden-2/
LOCATION:Golden\, BC\, Golden\, British Columbia\, Canada
CATEGORIES:AST 2 - Snowboard / Ski,Avalanche Skills Training Level 2,Golden
ATTACH;FMTTYPE=image/png:https://www.staywildbackcountry.ca/cms/wp-content/uploads/2021/07/AST-1-Ski-Snowboard-golden.png
END:VEVENT
END:VCALENDAR