BEGIN:VCALENDAR
VERSION:2.0
PRODID:-//Stay Wild Backcountry Skills - ECPv6.15.20//NONSGML v1.0//EN
CALSCALE:GREGORIAN
METHOD:PUBLISH
X-ORIGINAL-URL:https://www.staywildbackcountry.ca
X-WR-CALDESC:Events for Stay Wild Backcountry Skills
REFRESH-INTERVAL;VALUE=DURATION:PT1H
X-Robots-Tag:noindex
X-PUBLISHED-TTL:PT1H
BEGIN:VTIMEZONE
TZID:UTC
BEGIN:STANDARD
TZOFFSETFROM:+0000
TZOFFSETTO:+0000
TZNAME:UTC
DTSTART:20250101T000000
END:STANDARD
END:VTIMEZONE
BEGIN:VEVENT
DTSTART;TZID=UTC:20260129T170000
DTEND;TZID=UTC:20260201T163000
DTSTAMP:20260420T111130
CREATED:20251207T225405Z
LAST-MODIFIED:20260116T142902Z
UID:26291-1769706000-1769963400@www.staywildbackcountry.ca
SUMMARY:AST 2—Ski / Snowboard | Golden
DESCRIPTION:Private groups				\n				\n					\n				\n		\n					\n				\n				\n							\n			\n						\n		\n						\n				\n					\n				\n		\n					\n				\n				\n									We are currently taking private group bookings for AST 1\, AST 2\, Managing Avalanche Terrian and Refresher courses in Golden. Please reach out and we would be stoked to chat and make something work for your crew. 								\n				\n					\n				\n		\n					\n				\n				\n									\n					\n						\n									Contact us
URL:https://www.staywildbackcountry.ca/events/ast-2-ski-golden-jan-29/
LOCATION:Golden\, BC\, Golden\, British Columbia\, Canada
CATEGORIES:AST 2 - Snowboard / Ski,Avalanche Skills Training Level 2,Golden
ATTACH;FMTTYPE=image/jpeg:https://www.staywildbackcountry.ca/cms/wp-content/uploads/2025/05/B2C21F9E-083E-40F3-AD80-3D176889FBBD-scaled.jpeg
END:VEVENT
END:VCALENDAR